Workbook
Name Anticipated_Quarter_Start: 'Annual Exp Plan'!$E$18:$E$19
Name Anticipated_Quarter_Start: 'Annual Exp Plan Old'!$E$8:$E$9
Name Anticipated_Quarter_Start: 'Annual Expenditure Plan'!$D$9:$D$12
Name Anticipated_Quarter_Start: 'EOY Report'!#REF!
Name Anticipated_Quarter_Start: 'EOY Report OLD'!$E$5:$E$8
Name Anticipated_Quarter_Start: #REF!
Name Evaluation_Assessment_Tools: 'Annual Exp Plan'!$B$37:$I$39
Name Evaluation_Assessment_Tools: 'Annual Exp Plan Old'!$B$24:$I$26
Name Evaluation_Assessment_Tools: 'Annual Expenditure Plan'!$A$48:$G$54
Name Evaluation_Assessment_Tools: 'EOY Report'!$C$43:$G$50
Name Evaluation_Assessment_Tools: 'EOY Report OLD'!$A$44:$H$51
Name Evaluation_Assessment_Tools: #REF!
Name FromArray_1: _xlfn.ANCHORARRAY('Q2 Narrative '!#REF!)
Name FromArray_1: _xlfn.ANCHORARRAY('Q2 Narrative_old '!$A$5)
Name FromArray_1: _xlfn.ANCHORARRAY('Q3 Narrative'!#REF!)
Name FromArray_1: _xlfn.ANCHORARRAY('Q3 Narrative_old'!$A$5)
Name FromArray_1: _xlfn.ANCHORARRAY('Q4 Narrative'!$A$5)
Name FromArray_1: _xlfn.ANCHORARRAY('Q4 Narrative-'!#REF!)
Name FromArray_1: _xlfn.ANCHORARRAY('Q1 Narrative '!#REF!)
Name Select_Evaluation_Assessment_Tools: 'Annual Exp Plan'!$B$37:$B$39
Name Select_Evaluation_Assessment_Tools: 'Annual Exp Plan Old'!$B$24:$B$26
Name Select_Evaluation_Assessment_Tools: 'Annual Expenditure Plan'!$A$48:$A$54
Name Select_Evaluation_Assessment_Tools: 'EOY Report'!$C$43:$C$50
Name Select_Evaluation_Assessment_Tools: 'EOY Report OLD'!$A$44:$A$51
Name Select_Evaluation_Assessment_Tools: #REF!
Name Select_tool: 'Annual Exp Plan'!$B$37:$B$39
Name Select_tool: 'Annual Exp Plan Old'!$B$24:$B$26
Name Select_tool: 'Annual Expenditure Plan'!$A$48:$A$54
Name Select_tool: 'EOY Report'!$C$43:$C$50
Name Select_tool: 'EOY Report OLD'!$A$44:$A$51
Name Select_tool: #REF!
Name TitleEvalExp..F51: '[1]Quarterly Data'!#REF!
Name TitleEvalExp..F51: '[1]Quarterly Data'!#REF!
Name TitleEvalExp..F51: '[1]Quarterly Data'!#REF!
Name TitleEvalExp..F51: '[1]Quarterly Data'!#REF!
Name TitleEvalExp..F51: '[1]Quarterly Data'!#REF!
Name TitleEvalExp..F51: #REF!
Name TitleEvalTools..M51: #REF!
Name TitleOtherExp..F67: '[1]Quarterly Data'!#REF!
Name TitleOtherExp..F67: '[1]Quarterly Data'!#REF!
Name TitleOtherExp..F67: '[1]Quarterly Data'!#REF!
Name TitleOtherExp..F67: '[1]Quarterly Data'!#REF!
Name TitleOtherExp..F67: '[1]Quarterly Data'!#REF!
Name TitleOtherExp..F67: #REF!
Name TitleOtherProv..M65: #REF!
Name TitlePDExp..F18: '[1]Quarterly Data'!#REF!
Name TitlePDExp..F18: '[1]Quarterly Data'!#REF!
Name TitlePDExp..F18: '[1]Quarterly Data'!#REF!
Name TitlePDExp..F18: '[1]Quarterly Data'!#REF!
Name TitlePDExp..F18: '[1]Quarterly Data'!#REF!
Name TitlePDExp..F18: #REF!
Name TitlePDFin..M18: #REF!
Name TitlePDTrained..M26: #REF!
Name TitleQ1..E11: 'Q1 Narrative '!#REF!
Name TitleQ1..E11: 'Q2 Narrative '!#REF!
Name TitleQ1..E11: 'Q2 Narrative_old '!$A$4
Name TitleQ1..E11: 'Q3 Narrative'!#REF!
Name TitleQ1..E11: 'Q3 Narrative_old'!$A$4
Name TitleQ1..E11: 'Q4 Narrative'!$A$4
Name TitleQ1..E11: 'Q4 Narrative-'!#REF!

Sheet Instructions
A1: INSTRUCTIONS
A2: Board Child Care Quality Expenditure & Activity Report
A3: Background: | B3: Child Care Development Fund (CCDF) federal regulation §98.53(f) requires states to annually prepare and submit a Quality Progress and Expenditure Report (QPR). The purpose of the annual QPR is to show Texas’ progress on improving the quality of child care programs and services for children. The QPR is organized according to 10 allowable activities for the use of quality funds. The Texas Workforce Commission (TWC) is required to submit the QPR (ACF-218) by December 31 of each year. The report must include estimates of both state and local quality-related expenditures that occurred during the federal fiscal year.
A4: References: | B4: 45 CFR §98.53
A6: Annual Steps:
A7: Save As… | B7: Beginning with each new federal fiscal year (FFY), save report as a new file: "FFY [YYYY] Board CCQ Report - [Board Name]"
A8: Select Board (populates headers throughout):
A9: Enter fiscal year [YYYY]: | B9: 2027
A11: Step 1: Complete the Texas Rising Star Staff Log
A12: How often? | B12: Annually and updated each quarter, as applicable
A13: When is it due? | B13: Within 30 calendar days of the Board's Child Care Quality (CCQ) grant award
A14: What data do I enter? | B14: Enter the Board's Texas Rising Star staffing information, including budgeted and filled Texas Rising Star mentors and/or other role full-time equivalents (FTE). Information must include hire date, current job title/role, percentage of FTE job duties for that role, "employed by" information, email contact information, and termination date, as applicable. For employed by information, denote if the staff member is employed by the Board, the Board's child care contractor, or self-employed (hourly).
A16: Step 2: Complete the Annual Expenditure Plan
A17: How often? | B17: Annually
A18: When is it due? | B18: Within 60 calendar days of approval of funds by the Commission.
A19: What data do I enter? | B19: Enter CCQ activities planned to occur during the federal fiscal year (October 1 - September 30), regardless of grant source. Due to overlap of Board funds (as applicable), some activities that occur in this FFY may be funded from prior Board Contract Year (BCY) grants. Only cells with green headings need Board data entry. All cells below gold headings will auto-populate. - Plan Status: This cell will indicate whether the Board's CQF activities are Approved, Pending, or Needs Revisions from TWC. - FY: Auto-populates the current fiscal year for the plan. - Board: Auto-populates the Board area. - Total Funds Planned: Auto-populates the total amount of funds planned by the Board (CCQ, CCQ Mentor and CQF). - Total Funds Allotted: This cell will auto-populate when the Board selects their Board name above (cell B8). This is the total amount of CCQ, CCQ Mentor, and CQF funds for the Board. - Total Number of CCS Child Care Programs: Enter the total number of CCS Child Care Programs in cell F5 as of October 1 of the current year. - Who administers the CCQ funds? Make a selection for who implements the TWC provided CCQ funds: Board, Board Contractor, or Both. - If "Both" is selected for administering funds, describe how this is coordinated. - Plan Overview: Provide a high-level description of the Board's planned use of the CCQ funding provided to include how success of the Child Care Quality activities will be measured and how it aligns with the Board's overarching Local Workforce Development Board (Board) strategic Plan. - Needs Determination: Describe how the Board assessed quality improvement needs for the activities planned and what key needs does the plan addresses. This should also include how CQF activity needs were determined. NOTE: Planned Estimated Funding Totals chart will auto-populate (lines 7 through 12) with funding totals based on the data the Board inputs into the Plan. Do not attempt to edit these fields. For each activity being implemented: - Activity Category: Select the activity category from the drop-down list provided. The categories are listed in priority order. If an activity could fall in either category (such as Professional Development specific to infant/toddler care), enter the data under the highest-ranked/first category (in this case, Infant and Toddler). Do not double-report across categories. Example: If you had an initiative to support providers attaining national accreditation, you may report sending provider staff to the TXAEYC conference under Professional Development and report reimbursements for NAEYC accreditation fees under Supporting National Accreditation. - Activity Type/Name: Select a title/descriptive name of the activity or grouping of activities from the drop-down list provided. - Planned Expenditures: Enter the estimated amount the Board expects to expend on the activity as a whole. - Funding Type: Select the applicable type of funding for each quality activity or grouping of activities (for activities that will utilize more than one type of funding, the Board will list the same activity on a separate line indicating the additional funding type within the activity description.) - Quarter Activity Initiated: From the drop-down box, indicate which quarter the Board anticipates the activity or group of activities to start. - Activity Description: Enter a narrative description of each activity or grouping, which must include the following: * A clear description of the planned activity * Alignment to the Board identified need or Board Strategic Plan strategy * Targeted Outreach, which should describe how many programs or participants will the activity assist * The Board should indicate if this a new CQF activity or if it was executed in the previous fiscal year - Alignment: How the activity aligns to the Board's identified need or Board Strategic Plan strategy. - Target Outreach: How many programs or participants the activity will assist. - Measurable Outcome: Describe how the Board will measure success and/or what outcome is expected as a result of the activity.
A20: Tips and suggestions: | B20: *To add a return/line within a cell: Press Alt+Enter *Refer to the Examples & Definitions (TAB 2) *"Other" funding is defined as any funding received by the Board that is not considered CCQ, CCQ Mentor, or CQF. Please describe this funding in the activity narrative.
A21: Current FFY Shortened: | B21: =B9-0 -> 2027
A22: Previous FFY Shortened: | B22: =B21-1 -> 2026
A23: Next FFY Long: | B23: =B22+1 -> 2027
A26: Step 3: Enter Quarterly Narratives
A27: How often? | B27: Quarterly
A28: When is it due? | B28: Within 30 calendar days of the end of the quarter Q1 Narrative: January 30 Q2 Narrative: April 30 Q3 Narrative: July 30 Q4 Narrative: October 30
A29: What data do I enter? | B29: Activity information (first six columns) will be pre-filled according to the Board's Annual Expenditure Plan. Do not edit these fields within this tab. For each activity or related groupings of activities: - Project Status: Select from the drop-down menu the current status of the activity as of the quarter reported. - Project Update: Describe the activity/activities that was conducted (if applicable, denote any changes to the activity the Board made.) - Number of Participants Served: Report the number of new, unduplicated participants (individuals or providers) served for the quarter reported * Note: if the activity crosses multiple quarters, only report the new participants each quarter.
A30: Tips and suggestions: | B30: To add a return/line within a cell: Press Alt+Enter Refer to the Examples & Definitions (TAB 2)
A32: Step 4: Enter End of Year (EOY) Report
A33: How often? | B33: Annually; 60 days after submitting the Quarter 4 Report
A34: When is it due? | B34: Within 60 days of submitting the Quarter 4 report (Quarter 4 report is due October 30)
A35: What data do I enter? | B35: Activity Type/Name, Type of Funding, and Planned Estimated Expenditures data will be auto-populated according to the data entered in the Board's Annual Expenditure Plan. Boards are to enter the following information: - From the drop-down box select if the measurable outcome(s) was met, not met, or partially met. - Select from the drop-down box if the Board plans to repeat the activity next year. - Enter any additional information such as lessons learned or notes other Boards would find helpful if they plan to replicate the activity. Note: The heading "Control Number" is to indicate the number of lines only.
A36: Tips and suggestions: | B36: To add a return/line within a cell: Press Alt+Enter Refer to the Examples & Definitions (TAB 2)
A37: End of Worksheet

Sheet Examples & Definitions
A1: General Guidance
A2: What if my activity is not included in these examples? | B2: The following are just that: examples. A Board may fund other activities that are not included in the examples below. TWC has provided a drop-down list of predetermined activities to choose from in the Annual Expenditure Plan tab; however, if the Board does not see their activity listed, or if the Board is unsure if an activity is allowable using Quality funds, please send questions to childcare.programassistance@twc.texas.gov.
A3: What about quality activities that are not funded with CCDF? | B3: Some Child Care Quality activities may be funded through partnerships and other entities without the use of Child Care and Development Fund (CCDF) funds. Some of these activities funded by other sources may be integral to the Board's overall strategies for improving Child Care quality. Descriptions of such activities that are funded with non-CCDF dollars should be included in the Annual Expenditure Plan and in the Quarterly Narrative. Indicate in the description how the activity was funded (for example, by a local coalition, local government, a private foundation, or a grant award). While Boards are not required to describe activities funded outside of CCDF, it is helpful to understand the full picture of quality improvement activities in which the Board participates.
A4: When reporting activities or outcomes related to Texas Rising Star, when does a program "count" as being Texas Rising Star? | B4: Programs that the Boards are working with to become Texas Rising Star-certified may be counted in the Board's outcome measures. However, the Board must delineate those programs that are already certified or newly certified versus those that are not yet Texas Rising Star-certified but are in an initial certification phase.
A5: What if the Board plans to split funding for an activity between two or more funding sources? | B5: Boards may decide to split funding sources for planned activities. For these instances, Boards are to list the same activity on separate lines, indicating the specific funding source. In the activity description, the Board should denote that additional funding is being used.
A7: Quality Category: Infant & Toddler (including Professional Development)
A8: Activities that improve the quality of and supply of infant and toddler early learning programs and services
A9: Definitions | B9: Slots: New slots (not previously available) added during the quarter at any programs. A new slot may or may not be filled by a child receiving subsidy.
A10: Examples of Activities | B10: Expansion of Availability for Infants & Toddlers: Establishing or expanding high-quality early learning programs to serve infants and/or toddlers; this may include providing materials and equipment for new classrooms Infant- and Toddler-Specific Professional Development: * Providing professional development for early learning program staff and/or training on specific infant/toddler developmentally appropriate practices * Coordinating with early intervention specialists who provide services for infant/toddlers with disabilities * Providing support to individuals to become Infant/Toddler Specialists (such as through Children's Learning Institute or Zero-to-Three) Infant- and Toddler-Specific Scholarships: Providing educational scholarships specific to infant and/or toddler early learning program staff; this may include the Infant Toddler CDA. Classroom Equipment & Materials - Infant and Toddler: * Providing materials, equipment, and resources specific to infant and toddler development, including, but not limited to, cribs, changing tables, tables, chairs, high chairs, adult rocking chairs, and curriculum * Providing health and safety training specific to infants and toddlers, including, but not limited to, safe sleep practices, first aid, CPR, early brain development, shaken baby syndrome, and sudden infant death syndrome
A11: Example Measurable Outcomes | B11: - increase in the number of infant/toddler slots available - increase in the number of referrals to early childhood intervention or health care - increases in children's language development or social-emotional learning competencies (as measured by a validated tool)
A13: Quality Category: Professional Development
A14: Activities that support the training, professional development, and postsecondary education of the child care workforce
A15: Definitions | B15: Board-funded: Funding for the conference, training, registration, or fees was provided (excluding reimbursements) by CCQ funds Third-party hosted: Conference was hosted by an entity other than the Board, but registration or fees for participants was funded with CCQ
A16: Examples of Activities | B16: Professional Development Opportunities (Board-Hosted): Training on early learning and child development topics, including, but not limited to, health and safety, school-age care, inclusion, teaching dual-language learners, understanding developmental screenings, mental health, business management practices, nutrition and physical activity, equity, behavior management, parent relationships, and social-emotional development Professional Development Opportunities (Third-Party): Training on early learning and child development topics, including, but not limited to, health and safety, school-age care, inclusion, teaching dual-language learners, understanding developmental screenings, mental health, business management practices, nutrition and physical activity, equity, behavior management, parent relationships, and social-emotional development Professional Development Scholarships: * Training or providing stipends toward obtaining a Child Development Associate (CDA) credential * Paying tuition or providing stipends to attend early education courses at local community colleges and/or universities Release time/substitute coverage: Supporting early learning programs to pay for substitute teachers so that staff can participate in early learning and child development training Reimbursement for Training: Providing reimbursement, stipends, or grants to attend local, state, and/or national early childhood conferences Wage Supplements (tied to educational level): Providing wage supplements, bonuses, or stipends that are dependent on achieving educational milestones
A17: Example Measurable Outcomes | B17: - increase in Texas Rising Star participation and/or certified star levels - decrease in number of licensing deficiencies cited by CCR - increase in number of CCS providers with Entry-Level designation - number of early childhood program educators attaining CDA or college degree in ECE - pre/post training test results - customer satisfaction measures
A19: Texas Rising Star/Quality Improvement
A20: Activities that develop, implement, and/or enhance the tiered quality rating and improvement system (Texas Rising Star)
A21: Definitions | B21: FTE: Full-Time Equivalent or 40 hours per week of staff time. Boards must estimate the prorated FTE amount for Texas Rising Star staff members who are mentors and have other duties. For example, a staff member that divides their time equally between mentoring and other duties would count as 0.5 mentor FTE and 0.5 Other FTE. Similarly, the Board will need to estimate the full-time equivalency for any staff that work on a contract basis. Each quarter's numbers should represent a snapshot of staffing for that quarter, as of the date the report is submitted. Unlike other sections of the Quarterly Data tab, the calculated YTD column is an average of each quarter's FTEs rather than a total. When reporting the percentage of the FTE role on the Texas Rising Star Staffing tab, indicate the percentage of time the staff member spends in this role. Other FTE: Indicates non-Texas Rising Star job duties, such as Board staff, supervisor, or provider specialist.
A22: Examples of Activities | B22: Texas Rising Star Staff Personnel: * Personnel costs for Texas Rising Star staff; this may include mixed funding sources such as CCQ mentor-specific funding and additional CCQ funding * Providing technical assistance and mentoring to early learning programs to support obtaining, maintaining, or increasing star level within Texas Rising Star. Excludes professional development activities. *Personnel who are "Other" FTEs such as IT or TECPDS Specialists supported by CCQ funds. Parent Education and Outreach: Supporting parent engagement and consumer education designed to increase understanding and selection of quality child care (parent cafés, parenting classes, and Texas Rising Star marketing materials) Incentive Stipends (based on Certification): Providing one-time or periodic stipends or grants to incentivize Texas Rising Star programs to obtain, maintain, or increase star levels Classroom Equipment & Materials: Providing materials, equipment, and resources to assist in meeting Texas Rising Star requirements, including, but not limited to, classroom furniture, developmentally appropriate learning materials, curriculum, outdoor equipment, gross motor equipment, and resource books (except for materials intended solely for infants and toddlers)
A23: Example Measurable Outcomes | B23: - increase in Texas Rising Star participation and/or certified star levels - increase in retention of Texas Rising Star certified programs
A25: Supporting Health & Safety Standards
A26: Activities that support compliance with state requirements for licensing, inspection, monitoring, training, and health and safety
A27: Definitions | B27: n/a
A28: Examples of Activities | B28: First Aid/CPR Training: Providing training specific to required health and safety standards, which is limited to first aid and CPR training, transportation training, and food handler training - excludes other professional development Health & Safety Materials (PPE, Choking devices): Purchasing materials, equipment, and/or resources for early learning programs, including, but not limited to personal protective equipment Health & Safety Equipment (AED/Security): Purchasing materials, equipment, and/or resources for early learning programs, specific to security systems and automated external defibrillators
A29: Example Measurable Outcomes | B29: - increase in Texas Rising Star participation and/or certified star levels - decrease in number of licensing deficiencies cited by CCR - increase in number of CCS providers attaining Entry Level designation - increased Texas Rising Star screening compliance - increased provider or parent satisfaction
A31: Evaluation & Assessment
A32: Activities that evaluate the quality of child care programs, including how programs positively impact children
A33: Definitions | B33: n/a
A34: Examples of Activities | B34: Evaluation/Assessment Tool: * Purchasing program/classroom assessment tools to assist early learning programs in measuring effective practice (for example, CLASS, LENA Grow, PAS, ITERS, and ECERS) * Purchasing child assessment tools to assist early learning programs in measuring age-appropriate child development or progress monitoring (for example, ASQ, DECA, Teaching Strategies GOLD) Formal Evaluation Study: Formal evaluation studies of quality efforts, which would require the submission of an Evaluation Report to the Texas Workforce Commission
A35: Example Measurable Outcomes | B35: - increase in Texas Rising Star participation and/or certified star levels - increased kindergarten readiness (if measuring kindergarten readiness, Boards should indicate their intent in their plan, including the date they expect to capture the results data, which may be beyond the program year)
A37: Supporting National Accreditation
A38: Activities that support providers in the voluntary pursuit of accreditation
A39: Definitions | B39: n/a
A40: Examples of Activities | B40: Supporting National Accreditation: * Providing stipends or grants to pay for application and renewal fees * Providing technical assistance to obtain or maintain national accreditation
A41: Example Measurable Outcomes | B41: - increase in Texas Rising Star participation and/or Star levels
A43: Other Activities (Shared Services, Pre-K Partnership Supports, and Other Supports to Child Care Providers)
A44: Activities that are supported by outcome measures related to provider preparedness, child well-being, or kinder-entry
A45: Definitions | B45: Formal partnership: a partnership between an early learning program and public Pre-K or HS/EHS in which some or all children are dually enrolled Informal partnership: a partnership between an early learning program and public Pre-K or HS/EHS that does not include dual enrollment, but provides for other collaborations such as joint professional development
A46: Examples of Activities | B46: New formal Pre-K partnerships developed: * development of formal partnerships that allow braiding of funding by dually enrolling CCS children in public Pre-K * partnering programs provide complementary services such as Pre-K school day instruction coupled with wraparound child care New formal HS/EHS partnerships developed: * development of formal partnerships that allow braiding of funding by dually enrolling CCS children in HS/EHS * partnering programs provide complimentary services such as Pre-K school day instruction coupled with wraparound child care Shared Services: * purchasing and supporting back-office software solutions to help programs more effectively manage their child care businesses * supporting alliances of programs to leverage bulk-purchasing, shared staff, substitute pools, and joint professional development Other Supports: Stabilization/supply-building stipends: supply-building and capacity expansion grants or stipends for providers; this may include start-up funds for new programs serving an underserved population (i.e., child care desert, non-traditional hours, infants and/or special needs) Wage Supplements: wage supports, which may include recruitment and retention bonuses, for child care staff Mental health supports: mental health consultation for child care staff
A47: Example Measurable Outcomes | B47: - decrease in number of licensing deficiencies cited by CCR - increase in number of CCS providers attaining Entry Level designation - increased Texas Rising Star screening compliance - increase in Texas School Ready participation - increase in the number of Texas Rising Star programs formally partnering with an ISD to provide Pre-K - increase in the number of Texas Rising Star programs formally partnering with HS or EHS - increase in the number of Texas Rising Star programs informally partnering with ISDs, HS, or EHS - increase in the number of children dually enrolled in high-quality programs/partnerships - increase in the number of child care programs that received a stimulus-funded capacity expansion grant - increase in the number of child care programs that received stimulus funding for wage stipends; number of staff members receiving a wage stipend
...

Sheet Texas Rising Star Staff
A1: =Instructions!$B$8 -> 0
A2: =CONCATENATE("FFY ", Instructions!$B$9, " Texas Rising Star Staff") -> FFY 2027 Texas Rising Star Staff
A4: Staff Name | B4: Job Title or Role | C4: Date of Hire | D4: Mentor FTE | E4: Other FTE | F4: Employed By (select from options) | G4: Email Contact | H4: Termination Date
F5: select ↓
F6: select ↓
F7: select ↓
F8: select ↓
F9: select ↓
F10: select ↓
F11: select ↓
F12: select ↓
F13: select ↓
F14: select ↓
F15: select ↓
F16: select ↓
A18: Total FTEs | B18: n/a | C18: n/a | D18: =SUM(D5:D16) -> 0 | E18: =SUM(E5:E16) -> 0
A21: Budgeted Vacant Staff
A22: Type of Role | B22: Number of Vacancies
A23: Texas Rising Star Mentor | B23: 0
A24: Texas Rising Star Other | B24: 0
A25: Total | B25: =SUM(B23:B24) -> 0

Sheet Annual Exp Plan
A3: Overall plan and strategies for Child Care Quality activities
A4: CQF Plan Status | B4: FFY | C4: Board | D4: Total Funds Planned (CCQ + CCQ Mentor + CQF) | E4: Total Funds Allotted (CCQ + CCQ Mentor + CQF) | F4: Total Number of CCS Child Care Programs | G4: Who administers the CCQ funds? | H4: If "Both", describe how this is coordinated. | I4: Plan Overview | J4: Needs Determination
A5: CQF Approved, CQF Pending, Needs Rev, | B5: =Instructions!B9 -> 2027 | C5: =Instructions!$B$8 -> 0 | D5: =SUM(Table18[Total Planned]) -> 0 | E5: =(J8+J9+J10) -> #N/A
A7: Planned Estimated Funding Totals | B7: Infant & Toddler | C7: Professional Development | D7: Texas Rising Star/QRIS (except PD) | E7: Health & Safety (except PD) | F7: Evaluation & Assessment | G7: National Accreditation | H7: Other (Shared Services, Pre-K Partnerships) | I7: Total Planned | J7: Total Allotted
A8: CCQ | B8: =SUMIFS(C18:C67,A18:A67,B7,D18:D67,A8) -> 0 | C8: =SUMIFS(C18:C67,A18:A67,C7,D18:D67,A8) -> 0 | D8: =SUMIFS(C18:C67,A18:A67,D7,D18:D67,A8) -> 0 | E8: =SUMIFS(C18:C67,A18:A67,E7,D18:D67,A8) -> 0 | F8: =SUMIFS(C18:C67,A18:A67,F7,D18:D67,A8) -> 0 | G8: =SUMIFS(C18:C67,A18:A67,G7,D18:D67,A8) -> 0 | H8: =SUMIFS(C18:C67,A18:A67,H7,D18:D67,A8) -> 0 | I8: =SUM(Table18[[#This Row],[Infant & Toddler]:[Other (Shared Services, Pre-K Partnerships) ]]) -> 0 | J8: =_xlfn.XLOOKUP(C5,'Hidden Figures'!A2:A29,'Hidden Figures'!B2:B29) -> #N/A
A9: CCQ Mentor | B9: =SUMIFS(C18:C67,A18:A67,B7,D18:D67,A9) -> 0 | C9: =SUMIFS(C18:C67,A18:A67,C7,D18:D67,A9) -> 0 | D9: =SUMIFS(C18:C67,A18:A67,D7,D18:D67,A9) -> 0 | E9: =SUMIFS(C18:C67,A18:A67,E7,D18:D67,A9) -> 0 | F9: =SUMIFS(C18:C67,A18:A67,F7,D18:D67,A9) -> 0 | G9: =SUMIFS(C18:C67,A18:A67,G7,D18:D67,A9) -> 0 | H9: =SUMIFS(C18:C67,A18:A67,H7,D18:D67,A9) -> 0 | I9: =SUM(Table18[[#This Row],[Infant & Toddler]:[Other (Shared Services, Pre-K Partnerships) ]]) -> 0 | J9: =_xlfn.XLOOKUP(C5,'Hidden Figures'!A2:A29,'Hidden Figures'!C2:C29) -> #N/A
A10: CQF | B10: =SUMIFS(C18:C67,A18:A67,B7,D18:D67,A10) -> 0 | C10: =SUMIFS(C18:C67,A18:A67,C7,D18:D67,A10) -> 0 | D10: =SUMIFS(C18:C67,A18:A67,D7,D18:D67,A10) -> 0 | E10: =SUMIFS(C18:C67,A18:A67,E7,D18:D67,A10) -> 0 | F10: =SUMIFS(C18:C67,A18:A67,F7,D18:D67,A10) -> 0 | G10: =SUMIFS(C18:C67,A18:A67,G7,D18:D67,A10) -> 0 | H10: =SUMIFS(C18:C67,A18:A67,H7,D18:D67,A10) -> 0 | I10: =SUM(Table18[[#This Row],[Infant & Toddler]:[Other (Shared Services, Pre-K Partnerships) ]]) -> 0 | J10: =_xlfn.XLOOKUP(C5,'Hidden Figures'!I2:I29,'Hidden Figures'!K2:K29) -> #N/A
A11: Other | B11: =SUMIFS(C18:C67,A18:A67,B7,D18:D67,A11) -> 0 | C11: =SUMIFS(C18:C67,A18:A67,C7,D18:D67,A11) -> 0 | D11: =SUMIFS(C18:C67,A18:A67,D7,D18:D67,A11) -> 0 | E11: =SUMIFS(C18:C67,A18:A67,E7,D18:D67,A11) -> 0 | F11: =SUMIFS(C18:C67,A18:A67,F7,D18:D67,A11) -> 0 | G11: =SUMIFS(C18:C67,A18:A67,G7,D18:D67,A11) -> 0 | H11: =SUMIFS(C18:C67,A18:A67,H7,D18:D67,A11) -> 0 | I11: =SUM(Table18[[#This Row],[Infant & Toddler]:[Other (Shared Services, Pre-K Partnerships) ]]) -> 0 | J11: 0
A12: Total Planned | B12: =SUM(B8:B11) -> 0 | C12: =SUM(C8:C11) -> 0 | D12: =SUM(D8:D11) -> 0 | E12: =SUM(E8:E11) -> 0 | F12: =SUM(F8:F11) -> 0 | G12: =SUM(G8:G11) -> 0 | H12: =SUM(H8:H11) -> 0 | I12: =SUM(Table18[[#This Row],[Infant & Toddler]:[Other (Shared Services, Pre-K Partnerships) ]]) -> 0 | J12: =SUBTOTAL(109,J8:J11) -> #N/A
A17: Activity Category | B17: Activity Type/Name | C17: Planned Expenditures | D17: Funding Type (CCQ 2, CCQ Mentor, CQF, Other) | E17: Quarter Activity Initiated | F17: Activity Description | G17: Alignment | H17: Target Outreach | I17: Measurable Outcome(s) | J17: Control Number
C18: 0 | J18: 1
C19: 0 | J19: 2
C20: 0 | J20: 3
C21: 0 | J21: 4
C22: 0 | J22: 5
C23: 0 | J23: 6
C24: 0 | J24: 7
C25: 0 | J25: 8
C26: 0 | J26: 9
C27: 0 | J27: 10
C28: 0 | J28: 11
C29: 0 | J29: 12
... C53: 0 | J53: 36
J54: 37
J55: 38
J56: 39
J57: 40
J58: 41
J59: 42
J60: 43
J61: 44
J62: 45
J63: 46
J64: 47
J65: 48
... J67: 50

Sheet Hidden Figures
A1: LWDA | B1: Child Care Allocations (2%) CCQ | C1: TRS Mentor Funding | D1: Board Strategic Planning for Quality Improvement | E1: BCY 27 CCQ Grant Amounts | H1: LWDA | I1: LWDA | J1: BCY'27 4% Quality Funding | K1: Total FY2027 CQF
A2: Panhandle | H2: 1 | I2: Panhandle
A3: South Plains | H3: 2 | I3: South Plains
A4: North Texas | H4: 3 | I4: North Texas
A5: North Central | H5: 4 | I5: North Central
A6: Tarrant County | H6: 5 | I6: Tarrant County
A7: Dallas County | H7: 6 | I7: Dallas County
A8: Northeast Texas | H8: 7 | I8: Northeast Texas
A9: East Texas | H9: 8 | I9: East Texas
A10: West Central | H10: 9 | I10: West Central
A11: Upper Rio Grande | H11: 10 | I11: Upper Rio Grande
A12: Permian Basin | H12: 11 | I12: Permian Basin
A13: Concho Valley | H13: 12 | I13: Concho Valley
... A29: Gulf Coast | H29: 28 | I29: Gulf Coast
H30: blank row
A31: TOTALS | I31: TOTALS
H32: Exp. Data rom CashDrawDB2_03.accdb/CCQ Child Care.query

Sheet Annual Exp Plan Old
A1: =CONCATENATE("FFY ", Instructions!B9, " Annual Expenditure Plan") -> FFY 2027 Annual Expenditure Plan
A2: =Instructions!B8 -> 0
A3: Overall plan and strategies for Child Care Quality activities
A4: Total Funds Allotted (CCQ + CCQ Mentor + CQF) | B4: Total Number of CCS Child Care Programs (as of 10/01/2025) | C4: Who administers the CCQ funds? | D4: If the Board selects "Both" for administering funds, describe how this is coordinated. | E4: Plan Overview | F4: Needs Determination
A5: =_xlfn.XLOOKUP(Instructions!B8,Table8[Board Name],Table8[Total Allotted]) -> #N/A | C5: select ↓
A7: Activity Category | B7: Activity Type/Name | C7: Planned Expenditures | D7: Funding Type (CCQ 2, CCQ Mentor, CQF, Other) | E7: Quarter Activity Initiated | F7: Activity | G7: Alignment | H7: Target Outreach | I7: Measurable Outcome(s)
A8: select ↓ | B8: select ↓ | C8: 0 | D8: select ↓ | E8: select ↓
A9: select ↓ | B9: select ↓ | C9: 0 | D9: select ↓ | E9: select ↓
A10: select ↓ | B10: select ↓ | C10: 0 | D10: select ↓ | E10: select ↓
A11: select ↓ | B11: select ↓ | C11: 0 | D11: select ↓ | E11: select ↓
A12: select ↓ | B12: select ↓ | C12: 0 | D12: select ↓ | E12: select ↓
A13: select ↓ | B13: select ↓ | C13: 0 | D13: select ↓ | E13: select ↓
A14: select ↓ | B14: select ↓ | C14: 0 | D14: select ↓ | E14: select ↓
A15: select ↓ | B15: select ↓ | C15: 0 | D15: select ↓ | E15: select ↓
A16: select ↓ | B16: select ↓ | C16: 0 | D16: select ↓ | E16: select ↓
A17: select ↓ | B17: select ↓ | C17: 0 | D17: select ↓ | E17: select ↓
A18: select ↓ | B18: select ↓ | C18: 0 | D18: select ↓ | E18: select ↓
A19: select ↓ | B19: select ↓ | C19: 0 | D19: select ↓ | E19: select ↓
... A29: select ↓ | B29: select ↓ | C29: 0 | D29: select ↓ | E29: select ↓
A32: Planned Estimated Funding Totals | B32: CCQ | C32: CCQ Mentor | D32: CQF | E32: Other | F32: TOTAL
A33: Infant & Toddler | B33: =SUMIFS(Table915[Planned Expenditures],Table915[Funding Type (CCQ 2, CCQ Mentor, CQF, Other)],"CCQ",Table915[Activity Category],"Infant & Toddler") -> 0 | C33: =SUMIFS(Table915[Planned Expenditures],Table915[Funding Type (CCQ 2, CCQ Mentor, CQF, Other)],"CCQ Mentor",Table915[Activity Category],"Infant & Toddler") -> 0 | D33: =SUMIFS(Table915[Planned Expenditures],Table915[Funding Type (CCQ 2, CCQ Mentor, CQF, Other)],"CQF",Table915[Activity Category],"Infant & Toddler") -> 0 | E33: =SUMIFS(Table915[Planned Expenditures],Table915[Funding Type (CCQ 2, CCQ Mentor, CQF, Other)],"Other",Table915[Activity Category],"Infant & Toddler") -> 0 | F33: =SUM(Table1216[[#This Row],[CCQ]:[Other]]) -> 0
A34: Professional Development | B34: =SUMIFS(Table915[Planned Expenditures],Table915[Funding Type (CCQ 2, CCQ Mentor, CQF, Other)],"CCQ",Table915[Activity Category],"Professional Development") -> 0 | C34: =SUMIFS(Table915[Planned Expenditures],Table915[Funding Type (CCQ 2, CCQ Mentor, CQF, Other)],"CCQ Mentor",Table915[Activity Category],"Professional Development") -> 0 | D34: =SUMIFS(Table915[Planned Expenditures],Table915[Funding Type (CCQ 2, CCQ Mentor, CQF, Other)],"CQF",Table915[Activity Category],"Professional Development") -> 0 | E34: =SUMIFS(Table915[Planned Expenditures],Table915[Funding Type (CCQ 2, CCQ Mentor, CQF, Other)],"Other",Table915[Activity Category],"Professional Development") -> 0 | F34: =SUM(Table1216[[#This Row],[CCQ]:[Other]]) -> 0
A35: Texas Rising Star/QRIS (except PD) | B35: =SUMIFS(Table915[Planned Expenditures],Table915[Funding Type (CCQ 2, CCQ Mentor, CQF, Other)],"CCQ",Table915[Activity Category],"Texas Rising Star/QRIS (except PD)") -> 0 | C35: =SUMIFS(Table915[Planned Expenditures],Table915[Funding Type (CCQ 2, CCQ Mentor, CQF, Other)],"CCQ Mentor",Table915[Activity Category],"Texas Rising Star/QRIS (except PD)") -> 0 | D35: =SUMIFS(Table915[Planned Expenditures],Table915[Funding Type (CCQ 2, CCQ Mentor, CQF, Other)],"CQF",Table915[Activity Category],"Texas Rising Star/QRIS (except PD)") -> 0 | E35: =SUMIFS(Table915[Planned Expenditures],Table915[Funding Type (CCQ 2, CCQ Mentor, CQF, Other)],"Other",Table915[Activity Category],"Texas Rising Star/QRIS (except PD)") -> 0 | F35: =SUM(Table1216[[#This Row],[CCQ]:[Other]]) -> 0
A36: Health & Safety (except PD) | B36: =SUMIFS(Table915[Planned Expenditures],Table915[Funding Type (CCQ 2, CCQ Mentor, CQF, Other)],"CCQ",Table915[Activity Category],"Health & Safety (except PD)") -> 0 | C36: =SUMIFS(Table915[Planned Expenditures],Table915[Funding Type (CCQ 2, CCQ Mentor, CQF, Other)],"CCQ Mentor",Table915[Activity Category],"Health & Safety (except PD)") -> 0 | D36: =SUMIFS(Table915[Planned Expenditures],Table915[Funding Type (CCQ 2, CCQ Mentor, CQF, Other)],"CQF",Table915[Activity Category],"Health & Safety (except PD)") -> 0 | E36: =SUMIFS(Table915[Planned Expenditures],Table915[Funding Type (CCQ 2, CCQ Mentor, CQF, Other)],"Other",Table915[Activity Category],"Health & Safety (except PD)") -> 0 | F36: =SUM(Table1216[[#This Row],[CCQ]:[Other]]) -> 0
A37: Evaluation & Assessment | B37: =SUMIFS(Table915[Planned Expenditures],Table915[Funding Type (CCQ 2, CCQ Mentor, CQF, Other)],"CCQ",Table915[Activity Category],"Evaluation & Assessment") -> 0 | C37: =SUMIFS(Table915[Planned Expenditures],Table915[Funding Type (CCQ 2, CCQ Mentor, CQF, Other)],"CCQ Mentor",Table915[Activity Category],"Evaluation & Assessment") -> 0 | D37: =SUMIFS(Table915[Planned Expenditures],Table915[Funding Type (CCQ 2, CCQ Mentor, CQF, Other)],"CQF",Table915[Activity Category],"Evaluation & Assessment") -> 0 | E37: =SUMIFS(Table915[Planned Expenditures],Table915[Funding Type (CCQ 2, CCQ Mentor, CQF, Other)],"Other",Table915[Activity Category],"Evaluation & Assessment") -> 0 | F37: =SUM(Table1216[[#This Row],[CCQ]:[Other]]) -> 0
A38: National Accreditation | B38: =SUMIFS(Table915[Planned Expenditures],Table915[Funding Type (CCQ 2, CCQ Mentor, CQF, Other)],"CCQ",Table915[Activity Category],"National Accreditation") -> 0 | C38: =SUMIFS(Table915[Planned Expenditures],Table915[Funding Type (CCQ 2, CCQ Mentor, CQF, Other)],"CCQ Mentor",Table915[Activity Category],"National Accreditation") -> 0 | D38: =SUMIFS(Table915[Planned Expenditures],Table915[Funding Type (CCQ 2, CCQ Mentor, CQF, Other)],"CQF",Table915[Activity Category],"National Accreditation") -> 0 | E38: =SUMIFS(Table915[Planned Expenditures],Table915[Funding Type (CCQ 2, CCQ Mentor, CQF, Other)],"Other",Table915[Activity Category],"National Accreditation") -> 0 | F38: =SUM(Table1216[[#This Row],[CCQ]:[Other]]) -> 0
A39: Other (Shared Services, Pre-K Partnerships) | B39: =SUMIFS(Table915[Planned Expenditures],Table915[Funding Type (CCQ 2, CCQ Mentor, CQF, Other)],"CCQ",Table915[Activity Category],"Other (Shared Services, Pre-K Partnerships) ") -> 0 | C39: =SUMIFS(Table915[Planned Expenditures],Table915[Funding Type (CCQ 2, CCQ Mentor, CQF, Other)],"CCQ Mentor",Table915[Activity Category],"Other (Shared Services, Pre-K Partnerships) ") -> 0 | D39: =SUMIFS(Table915[Planned Expenditures],Table915[Funding Type (CCQ 2, CCQ Mentor, CQF, Other)],"CQF",Table915[Activity Category],"Other (Shared Services, Pre-K Partnerships) ") -> 0 | E39: =SUMIFS(Table915[Planned Expenditures],Table915[Funding Type (CCQ 2, CCQ Mentor, CQF, Other)],"Other",Table915[Activity Category],"Other (Shared Services, Pre-K Partnerships) ") -> 0 | F39: =SUM(Table1216[[#This Row],[CCQ]:[Other]]) -> 0
A40: TOTALS | B40: =SUBTOTAL(109,Table1216[CCQ]) -> 0 | C40: =SUBTOTAL(109,Table1216[CCQ Mentor]) -> 0 | D40: =SUBTOTAL(109,Table1216[CQF]) -> 0 | E40: =SUBTOTAL(109,Table1216[Other]) -> 0 | F40: =SUBTOTAL(109,Table1216[TOTAL]) -> 0
A43: End of Worksheet

Sheet TWC Hidden - Funding
A1: Board Name | B1: FY26 CCQ Allotted Funding | C1: CY26 CCQ Mentor Allotted Funding | D1: FY26 CQF Allotted Funding | E1: Total Allotted | H1: feed into A5 sum by board
A2: Workforce Solutions Panhandle | B2: 466583 | C2: 496621 | D2: 773877 | E2: =SUM(Table8[[#This Row],[FY26 CCQ Allotted Funding]:[FY26 CQF Allotted Funding]]) -> 1737081
A3: Workforce Solutions South Plains | B3: 460343 | C3: 630967 | D3: 1073822 | E3: =SUM(Table8[[#This Row],[FY26 CCQ Allotted Funding]:[FY26 CQF Allotted Funding]]) -> 2165132
A4: Workforce Solutions North Texas | B4: 206840 | C4: 417547 | D4: 597334 | E4: =SUM(Table8[[#This Row],[FY26 CCQ Allotted Funding]:[FY26 CQF Allotted Funding]]) -> 1221721
A5: Workforce Solutions for North Central Texas | B5: 2060556 | C5: 2812444 | D5: 5944259 | E5: =SUM(Table8[[#This Row],[FY26 CCQ Allotted Funding]:[FY26 CQF Allotted Funding]]) -> 10817259
A6: Workforce Solutions for Tarrant County | B6: 1999837 | C6: 2247553 | D6: 4683066 | E6: =SUM(Table8[[#This Row],[FY26 CCQ Allotted Funding]:[FY26 CQF Allotted Funding]]) -> 8930456
A7: Workforce Solutions Greater Dallas | B7: 2943721 | C7: 2454081 | D7: 5144167 | E7: =SUM(Table8[[#This Row],[FY26 CCQ Allotted Funding]:[FY26 CQF Allotted Funding]]) -> 10541969
A8: Workforce Solutions Northeast Texas | B8: 296580 | C8: 381857 | D8: 517651 | E8: =SUM(Table8[[#This Row],[FY26 CCQ Allotted Funding]:[FY26 CQF Allotted Funding]]) -> 1196088
A9: Workforce Solutions East Texas | B9: 880928 | C9: 934819 | D9: 1752213 | E9: =SUM(Table8[[#This Row],[FY26 CCQ Allotted Funding]:[FY26 CQF Allotted Funding]]) -> 3567960
A10: Workforce Solutions of West Central Texas | B10: 309516 | C10: 459150 | D10: 690218 | E10: =SUM(Table8[[#This Row],[FY26 CCQ Allotted Funding]:[FY26 CQF Allotted Funding]]) -> 1458884
A11: Workforce Solutions Borderplex | B11: 1155259 | C11: 1062405 | D11: 2037066 | E11: =SUM(Table8[[#This Row],[FY26 CCQ Allotted Funding]:[FY26 CQF Allotted Funding]]) -> 4254730
A12: Workforce Solutions Permian Basin | B12: 526322 | C12: 524318 | D12: 835714 | E12: =SUM(Table8[[#This Row],[FY26 CCQ Allotted Funding]:[FY26 CQF Allotted Funding]]) -> 1886354
A13: Workforce Solutions Concho Valley | B13: 133716 | C13: 351319 | D13: 449471 | E13: =SUM(Table8[[#This Row],[FY26 CCQ Allotted Funding]:[FY26 CQF Allotted Funding]]) -> 934506
... A29: Workforce Solutions Gulf Coast | B29: 7475107 | C29: 5879144 | D29: 12791075 | E29: =SUM(Table8[[#This Row],[FY26 CCQ Allotted Funding]:[FY26 CQF Allotted Funding]]) -> 26145326

Sheet Annual Expenditure Plan
A1: =CONCATENATE("FFY ", Instructions!B9, " Annual Expenditure Plan") -> FFY 2027 Annual Expenditure Plan
A2: =Instructions!B8 -> 0
A3: Narrative description of Board's overall plan and strategies for Child Care Quality activities
A4: Total Funds allotted (CCQ 2%, CCQ Mentor, CQF) | B4: Plan Overview (Overview must include a high-level description of the Board's plan to administer CCQ funds and how it aligns with the Board's Overall Strategic Plan) | C4: Needs Determination (Describe how the Board determined or assessed the needs of the activities planned) | D4: Measurable Outcomes (Describe how the Board will determine success of the Plan) | E4: Total Number of Child Care Programs Participating in CCS | F4: Who administers the CCQ funds? | G4: If the Board selects "Both" for administering funds, describe how this is coordinated.
A7: Infant & Toddler (including specific Professional Development)
A8: Activity Type/Name | B8: Activity Description (Description must include alignment to what need or Board strategy) | C8: Target Outreach | D8: Measurable Outcome | E8: Planned Expenditures | F8: Funding Type (CCQ 2, CCQ Mentor, CQF, Other) | G8: Anticipated Quarter Start
A9: READING | B9: to dogs | G9: Q1
A13: Total Planned Estimated Expenditures | B13: =SUM(E9:E12) -> 0
A15: Professional Development
A16: Activity Type/Name | B16: Activity Description (Description must include alignment to what need or Board strategy) | C16: Target Outreach | D16: Measurable Outcome | E16: Planned Expenditures | F16: Funding Type (CCQ 2, CCQ Mentor, CQF, Other) | G16: Anticipated Quarter Start
A18: READING TEST | G18: Q1
A21: Total Planned Estimated Expenditures | B21: =SUM(E17:E20) -> 0
A23: Texas Rising Star/Quality Improvement (except Professional Development; include Texas Rising Star personnel)
A24: Activity Type/Name | B24: Activity Description (Description must include alignment to what need or Board strategy) | C24: Target Outreach | D24: Measurable Outcome | E24: Planned Expenditures | F24: Funding Type (CCQ 2, CCQ Mentor, CQF, Other) | G24: Anticipated Quarter Start
A29: Total Planned Estimated Expenditures
A31: Supporting Health & Safety Standards (except Professional Development)
A32: Activity Type/Name | B32: Activity Description (Description must include alignment to what need or Board strategy) | C32: Target Outreach | D32: Measurable Outcome | E32: Planned Expenditures | F32: Funding Type (CCQ 2, CCQ Mentor, CQF, Other) | G32: Anticipated Quarter Start
A37: Total Planned Estimated Expenditures
A39: Evaluation & Assessment (tools to measure effective practice or child development/progress)
A40: Activity Type/Name | B40: Activity Description (Description must include alignment to what need or Board strategy) | C40: Target Outreach | D40: Measurable Outcome | E40: Planned Expenditures | F40: Funding Type (CCQ 2, CCQ Mentor, CQF, Other) | G40: Anticipated Quarter Start
A45: Total Planned Estimated Expenditures
A47: Supporting National Accreditation
A48: Activity Type/Name | B48: Activity Description (Description must include alignment to what need or Board strategy) | C48: Target Outreach | D48: Measurable Outcome | E48: Planned Expenditures | F48: Funding Type (CCQ 2, CCQ Mentor, CQF, Other) | G48: Anticipated Quarter Start
A52: Total Planned Estimated Expenditures
A54: Other Activities (Shared Services, Pre-K Partnership Supports, Other Supports)
A55: Activity Type/Name | B55: Activity Description (Description must include alignment to what need or Board strategy) | C55: Target Outreach | D55: Measurable Outcome | E55: Planned Expenditures | F55: Funding Type (CCQ 2, CCQ Mentor, CQF, Other) | G55: Anticipated Quarter Start
A58: Total Planned Estimated Expenditures
A59: TOTAL | B59: =SUM(B58,B52,B45,B37,B29,B21,B13) -> 0
A60: End of Worksheet

Sheet Q1 Narrative 
A1: =CONCATENATE("FFY ", Instructions!$B$9, " Quarterly Narrative") -> FFY 2027 Quarterly Narrative | C1: =CONCATENATE("FFY ", [2]Instructions!$B$9, " Quarterly Narrative") -> FFY 2026 Quarterly Narrative
A2: =Instructions!$B$8 -> 0
A3: Activity Category | B3: Activity Type/Name | C3: Funding | D3: Type of Funding | E3: Quarter Activity Initiated | F3: Activity | G3: Project Status | H3: Project Update (Provide details about the project to include what or how it was implemented in this quarter) | I3: Number of Participants Served (if applicable)
A4: {=AEP[[Activity Category]:[Activity Description]]} -> 0 | B4: 0 | C4: 0 | D4: 0 | E4: 0 | F4: 0
A5: 0 | B5: 0 | C5: 0 | D5: 0 | E5: 0 | F5: 0
A6: 0 | B6: 0 | C6: 0 | D6: 0 | E6: 0 | F6: 0
A7: 0 | B7: 0 | C7: 0 | D7: 0 | E7: 0 | F7: 0
A8: 0 | B8: 0 | C8: 0 | D8: 0 | E8: 0 | F8: 0
A9: 0 | B9: 0 | C9: 0 | D9: 0 | E9: 0 | F9: 0
A10: 0 | B10: 0 | C10: 0 | D10: 0 | E10: 0 | F10: 0
A11: 0 | B11: 0 | C11: 0 | D11: 0 | E11: 0 | F11: 0
A12: 0 | B12: 0 | C12: 0 | D12: 0 | E12: 0 | F12: 0
A13: 0 | B13: 0 | C13: 0 | D13: 0 | E13: 0 | F13: 0
A14: 0 | B14: 0 | C14: 0 | D14: 0 | E14: 0 | F14: 0
A15: 0 | B15: 0 | C15: 0 | D15: 0 | E15: 0 | F15: 0
A16: 0 | B16: 0 | C16: 0 | D16: 0 | E16: 0 | F16: 0
... A54: 0 | B54: 0 | C54: 0 | D54: 0 | E54: 0 | F54: 0

Sheet Q2 Narrative 
A1: =CONCATENATE("FY ", Instructions!$B$9, " Quarterly Narrative") -> FY 2027 Quarterly Narrative | C1: =CONCATENATE("FFY ", [2]Instructions!$B$9, " Quarterly Narrative") -> FFY 2026 Quarterly Narrative
A2: =Instructions!$B$8 -> 0
A3: Activity Category | B3: Activity Type/Name | C3: Funding | D3: Type of Funding | E3: Quarter Activity Initiated | F3: Activity | G3: Project Status | H3: Project Update (Provide details about the project to include what or how it was implemented in this quarter) | I3: Number of Participants Served (if applicable)
A4: {=AEP[[Activity Category]:[Activity Description]]} -> 0 | B4: 0 | C4: 0 | D4: 0 | E4: 0 | F4: 0
A5: 0 | B5: 0 | C5: 0 | D5: 0 | E5: 0 | F5: 0
A6: 0 | B6: 0 | C6: 0 | D6: 0 | E6: 0 | F6: 0
A7: 0 | B7: 0 | C7: 0 | D7: 0 | E7: 0 | F7: 0
A8: 0 | B8: 0 | C8: 0 | D8: 0 | E8: 0 | F8: 0
A9: 0 | B9: 0 | C9: 0 | D9: 0 | E9: 0 | F9: 0
A10: 0 | B10: 0 | C10: 0 | D10: 0 | E10: 0 | F10: 0
A11: 0 | B11: 0 | C11: 0 | D11: 0 | E11: 0 | F11: 0
A12: 0 | B12: 0 | C12: 0 | D12: 0 | E12: 0 | F12: 0
A13: 0 | B13: 0 | C13: 0 | D13: 0 | E13: 0 | F13: 0
A14: 0 | B14: 0 | C14: 0 | D14: 0 | E14: 0 | F14: 0
A15: 0 | B15: 0 | C15: 0 | D15: 0 | E15: 0 | F15: 0
A16: 0 | B16: 0 | C16: 0 | D16: 0 | E16: 0 | F16: 0
... A54: 0 | B54: 0 | C54: 0 | D54: 0 | E54: 0 | F54: 0

Sheet Q3 Narrative
A1: =CONCATENATE("FFY ", Instructions!$B$9, " Quarterly Narrative") -> FFY 2027 Quarterly Narrative | B1: =CONCATENATE("FY ", Instructions!$B$9, " Quarterly Narrative") -> FY 2027 Quarterly Narrative | D1: =CONCATENATE("FFY ", [2]Instructions!$B$9, " Quarterly Narrative") -> FFY 2026 Quarterly Narrative
A2: =Instructions!$B$8 -> 0
A3: Activity Category | B3: Activity Type/Name | C3: Funding | D3: Type of Funding | E3: Quarter Activity Initiated | F3: Activity | G3: Project Status | H3: Project Update (Provide details about the project to include what or how it was implemented in this quarter) | I3: Number of Participants Served (if applicable)
A4: {=AEP[[Activity Category]:[Activity Description]]} -> 0 | B4: 0 | C4: 0 | D4: 0 | E4: 0 | F4: 0
A5: 0 | B5: 0 | C5: 0 | D5: 0 | E5: 0 | F5: 0
A6: 0 | B6: 0 | C6: 0 | D6: 0 | E6: 0 | F6: 0
A7: 0 | B7: 0 | C7: 0 | D7: 0 | E7: 0 | F7: 0
A8: 0 | B8: 0 | C8: 0 | D8: 0 | E8: 0 | F8: 0
A9: 0 | B9: 0 | C9: 0 | D9: 0 | E9: 0 | F9: 0
A10: 0 | B10: 0 | C10: 0 | D10: 0 | E10: 0 | F10: 0
A11: 0 | B11: 0 | C11: 0 | D11: 0 | E11: 0 | F11: 0
A12: 0 | B12: 0 | C12: 0 | D12: 0 | E12: 0 | F12: 0
A13: 0 | B13: 0 | C13: 0 | D13: 0 | E13: 0 | F13: 0
A14: 0 | B14: 0 | C14: 0 | D14: 0 | E14: 0 | F14: 0
A15: 0 | B15: 0 | C15: 0 | D15: 0 | E15: 0 | F15: 0
A16: 0 | B16: 0 | C16: 0 | D16: 0 | E16: 0 | F16: 0
... A54: 0 | B54: 0 | C54: 0 | D54: 0 | E54: 0 | F54: 0

Sheet Q4 Narrative-
A1: =CONCATENATE("FFY ", Instructions!$B$9, " Quarterly Narrative") -> FFY 2027 Quarterly Narrative | B1: =CONCATENATE("FY ", Instructions!$B$9, " Quarterly Narrative") -> FY 2027 Quarterly Narrative | D1: =CONCATENATE("FFY ", [2]Instructions!$B$9, " Quarterly Narrative") -> FFY 2026 Quarterly Narrative
A2: =Instructions!$B$8 -> 0
A3: Activity Category | B3: Activity Type/Name | C3: Funding | D3: Type of Funding | E3: Quarter Activity Initiated | F3: Activity | G3: Project Status | H3: Project Update (Provide details about the project to include what or how it was implemented in this quarter) | I3: Number of Participants Served (if applicable)
A4: {=AEP[[Activity Category]:[Activity Description]]} -> 0 | B4: 0 | C4: 0 | D4: 0 | E4: 0 | F4: 0
A5: 0 | B5: 0 | C5: 0 | D5: 0 | E5: 0 | F5: 0
A6: 0 | B6: 0 | C6: 0 | D6: 0 | E6: 0 | F6: 0
A7: 0 | B7: 0 | C7: 0 | D7: 0 | E7: 0 | F7: 0
A8: 0 | B8: 0 | C8: 0 | D8: 0 | E8: 0 | F8: 0
A9: 0 | B9: 0 | C9: 0 | D9: 0 | E9: 0 | F9: 0
A10: 0 | B10: 0 | C10: 0 | D10: 0 | E10: 0 | F10: 0
A11: 0 | B11: 0 | C11: 0 | D11: 0 | E11: 0 | F11: 0
A12: 0 | B12: 0 | C12: 0 | D12: 0 | E12: 0 | F12: 0
A13: 0 | B13: 0 | C13: 0 | D13: 0 | E13: 0 | F13: 0
A14: 0 | B14: 0 | C14: 0 | D14: 0 | E14: 0 | F14: 0
A15: 0 | B15: 0 | C15: 0 | D15: 0 | E15: 0 | F15: 0
A16: 0 | B16: 0 | C16: 0 | D16: 0 | E16: 0 | F16: 0
... A54: 0 | B54: 0 | C54: 0 | D54: 0 | E54: 0 | F54: 0

Sheet Quarterly Narrative
A1: =CONCATENATE("FFY ", Instructions!$B$9, " Quarterly Narrative") -> FFY 2027 Quarterly Narrative
A2: =Instructions!$B$8 -> 0
A3: =(CONCATENATE("Oct ",Instructions!$B$22," - Dec ",Instructions!$B$22,"")) -> Oct 2026 - Dec 2026 | B3: Q1
A4: Activity Category | B4: Activity Type/Name | C4: Activity Description: Enter detailed description of the activity or grouping of activities that was conducted. Include details about any revisions to the planned activity or expenditures, if applicable | D4: Project Status (Started, Ongoing, Completed) | E4: Number of Participants (if applicable) | F4: Type of Funding (CCQ 2%, CQF, Other) | G4: Estimated Expendiutre Enter the estimated expenditure for each activity listed.
A5: Infant & Toddler | B5: Curriculum - Infant/Toddler
A6: {=_xlfn.XLOOKUP($B$3,'Annual Expenditure Plan'!G9:G12,'Annual Expenditure Plan'!A9:B12)} -> READING | B6: to dogs
A7: {=_xlfn.XLOOKUP($B$3,'Annual Expenditure Plan'!G10:G13,'Annual Expenditure Plan'!A10:B13)} -> #N/A
A8: {=_xlfn.XLOOKUP($B$3,'Annual Expenditure Plan'!G11:G14,'Annual Expenditure Plan'!A11:B14)} -> #N/A
A9: {=_xlfn.XLOOKUP($B$3,'Annual Expenditure Plan'!G12:G15,'Annual Expenditure Plan'!A12:B15)} -> #N/A
A10: {=_xlfn.XLOOKUP($B$3,'Annual Expenditure Plan'!G13:G16,'Annual Expenditure Plan'!A13:B16)} -> #N/A
A11: {=_xlfn.XLOOKUP($B$3,'Annual Expenditure Plan'!G14:G17,'Annual Expenditure Plan'!A14:B17)} -> #N/A
A13: =(CONCATENATE("2nd Quarter (Jan ",Instructions!$B$9," - Mar ",Instructions!$B$9,")")) -> 2nd Quarter (Jan 2027 - Mar 2027)
A14: Activity Category
A26: =(CONCATENATE("3rd Quarter (Apr ",Instructions!$B$9," - Jun ",Instructions!$B$9,")")) -> 3rd Quarter (Apr 2027 - Jun 2027)
A27: Activity Category
A34: =(CONCATENATE("4th Quarter (Jul ",Instructions!$B$9," - Sep ",Instructions!$B$9,")")) -> 4th Quarter (Jul 2027 - Sep 2027)
A35: Activity Category

Sheet Hidden-TWC Staff
B1: Board-Level Data for Statewide Rollup
B2: (see 'Staff Instructions' tab in Statewide Rollup workbook)
B4: Board (populated from Instructions tab)
B5: =Instructions!$B$8 -> 0
B7: Mentor Staffing
B8: Q1 Mentors | C8: Q2 Mentors | D8: Q3 Mentors | E8: Q4 Mentors
B9: ='Quarterly Data'!B35 -> 0 | C9: ='Quarterly Data'!C35 -> 0 | D9: ='Quarterly Data'!D35 -> 0 | E9: ='Quarterly Data'!E35 -> 0
A12: Infant & Toddler | D12: Professional Development | I12: Texas Rising Star/QRIS | J12: Health & Safety | N12: Evaluation and Assessment | O12: National Accreditation | P12: Other
A13: Grants, Equip/Mat | B13: New TRS Infant Slots | C13: New TRS Toddler Slots | D13: Scholarships | E13: Bonuses/ Wage Supplements | F13: Reimbursement Training | G13: Release Time/Subs | H13: Training (Duplicated numbers) | I13: Equip & Mat | J13: Defibrillators/Security Systems, Cameras, Coded Entry | K13: Other Materials | L13: H&S Materials | M13: First Aid/CPR Training | N13: Providers Assisted | O13: Programs Receiving FA or TA | P13: Wage Supplements | Q13: Mental Health Supports | R13: Stabilization/Supply Building Stipends | S13: Formal PreK Partnerships | T13: New Formal HS/EHS | U13: Shared Services
A14: ='Quarterly Data'!F6 -> 0 | B14: ='Quarterly Data'!F9 -> 0 | C14: ='Quarterly Data'!F10 -> 0 | D14: ='Quarterly Data'!F15 -> #REF! | E14: ='Quarterly Data'!F16 -> #REF! | F14: ='Quarterly Data'!F17 -> #REF! | G14: ='Quarterly Data'!F18 -> #REF! | H14: ='Quarterly Data'!F24 -> #REF! | I14: ='Quarterly Data'!F31 -> #REF! | J14: ='Quarterly Data'!F41 -> #REF! | K14: ='Quarterly Data'!F42 -> #REF! | L14: ='Quarterly Data'!F43 -> #REF! | M14: ='Quarterly Data'!F46 -> #REF! | N14: ='Quarterly Data'!F51 -> #REF! | O14: ='Quarterly Data'!F56 -> #REF! | P14: ='Quarterly Data'!F61 -> #REF! | Q14: ='Quarterly Data'!F62 -> #REF! | R14: ='Quarterly Data'!F63 -> #REF! | S14: ='Quarterly Data'!F64 -> #REF! | T14: ='Quarterly Data'!F65 -> #REF! | U14: ='Quarterly Data'!F66 -> #REF!

Sheet WD Letter Revisions
A1: WD Letter Revisions
A3: WD Letter Recissions | B3: New WD Letter Issued | C3: Date | D3: Change
A4: WD 21-19 Ch. 4 | B4: WD 25-22 | C4: 44835 | D4: New language regarding several categories, such as Professional Development, Supporting Health & Safety Standards, and Other Activities, has been added to the Examples & Definitions tab of Attachment 1. Within the Quarterly Data tab, one line item from the COVID-19 Supports section was placed in another category, specifically COVID-19 related materials line item was placed within the Supporting Health & Safety Standards category. The Other Activities category within the Quarterly Data tab has been updated to include the reporting requirements for the new Supply Building section and mental health supports.
A5: WD 25-22 | B5: WD 25-22, Change 1 | C5: 45020 | D5: Clarification on reporting Health & Safety Standards specified training.
A6: WD 25-22, Change 1 | B6: WD 23-23 | C6: 45222 | D6: Update to guidance on planning and reporting requirements for activities funded with local CCQ and applicable CCM funds to include utilizing Supplemental Cost Categories in CDER. Within the Annual Expenditure Plan tab, new data is being captured to indicate who implements the CCQ funding and removes the requirement to provide estimated expenditures for each category. Within the Texas Rising Star Staff tab, removed the assessor data fields, as this will be provided by the Centralized Assessment Entity beginning 10/1/23. Within the Quarterly Data tab, removed the requirement to provide actual expenditures for each category per funding source. Within the Quarterly Data tab, removed COVID-19 supports from the "Other" Category Removed the End of Year tab, as this data will now be captured with CDER.
A7: WD 23-23 | B7: WD 16-24 | C7: 45566 | D7: Updated to add additional 4% of CQF funding as directed by TWC (2% of CCQ and 4% of CQF for a total of 6%) Updated Annual Plan to request type of funding, when the activity would begin incurring expenditures, and estimated expenditures

Sheet Q2 Narrative_old 
A1: =CONCATENATE("FFY ", Instructions!$B$9, " Quarterly Narrative") -> FFY 2027 Quarterly Narrative | C1: =CONCATENATE("FFY ", [2]Instructions!$B$9, " Quarterly Narrative") -> FFY 2026 Quarterly Narrative
A2: =Instructions!$B$8 -> 0 | C2: =[2]Instructions!$B$8 -> Board (Select on Instructions tab)
A3: =(CONCATENATE("October ",Instructions!$B$22," - December ",Instructions!$B$22,"")) -> October 2026 - December 2026 | B3: Quarter 1 | F3: Quarter Activity Initiated
A4: Activity Category | B4: Activity Type/Name | C4: Funding | D4: Type of Funding (CCQ, CCQ Mentor, CQF, Other) | E4: Quarter Activity Initiated | F4: Quarter 1 | G4: Activity Description | H4: Project Status (Delayed, Started, Ongoing, Completed) | I4: Project Update (Provide details about the project to include what or how it was implemented in this quarter) | J4: Number of Participants Served (if applicable)
A5: {=_xlfn._xlws.FILTER(AEP[[Activity Category]:[Alignment]],AEP[Quarter Activity Initiated]="Quarter 2")} -> #VALUE! | H5: select ↓
H6: select ↓
H7: select ↓
H8: select ↓
H9: select ↓
H10: select ↓
H11: select ↓
H12: select ↓
H13: select ↓
H14: select ↓
H15: select ↓
H16: select ↓
H17: select ↓
... H33: select ↓

Sheet Q3 Narrative_old
A1: =CONCATENATE("FFY ", Instructions!$B$9, " Quarterly Narrative") -> FFY 2027 Quarterly Narrative | C1: =CONCATENATE("FFY ", [2]Instructions!$B$9, " Quarterly Narrative") -> FFY 2026 Quarterly Narrative
A2: =Instructions!$B$8 -> 0 | C2: =[2]Instructions!$B$8 -> Board (Select on Instructions tab)
A3: =(CONCATENATE("October ",Instructions!$B$22," - December ",Instructions!$B$22,"")) -> October 2026 - December 2026 | B3: Quarter 1 | F3: Quarter Activity Initiated
